BEGIN:VCALENDAR
VERSION:2.0
PRODID:-//eventon.com NONSGML v1.0//EN
CALSCALE:GREGORIAN
METHOD:PUBLISH
BEGIN:VEVENT
UID:69e7394317339
DTSTAMP:20260421T084555Z
DTSTART:20210906
DTEND:20210907
LOCATION:Puerto Rico
SUMMARY:Labor Day
DESCRIPTION:Labor Day\nhttps://caribefederal.com/events/labor-day/
URL:https://caribefederal.com/events/labor-day/
END:VEVENT
END:VCALENDAR