BEGIN:VCALENDAR
VERSION:2.0
PRODID:-//eventon.com NONSGML v1.0//EN
CALSCALE:GREGORIAN
METHOD:PUBLISH
BEGIN:VEVENT
UID:69e7366cc7bb3
DTSTAMP:20260421T083348Z
DTSTART:20200428
DTEND:20200429
LOCATION:
SUMMARY:REUNIÓN DE STAFF
DESCRIPTION:REUNIÓN DE STAFF\nhttps://caribefederal.com/events/staff-meeti
 ng-4-2/
URL:https://caribefederal.com/events/staff-meeting-4-2/
END:VEVENT
END:VCALENDAR