BEGIN:VCALENDAR
VERSION:2.0
PRODID:-//eventon.com NONSGML v1.0//EN
CALSCALE:GREGORIAN
METHOD:PUBLISH
BEGIN:VEVENT
UID:69e4dc9af2ffc
DTSTAMP:20260419T134602Z
DTSTART:20200217
DTEND:20200218
LOCATION:
SUMMARY:Día de los Presidentes
DESCRIPTION:Día de los Presidentes\nhttps://caribefederal.com/events/presi
 dents-day/
URL:https://caribefederal.com/events/presidents-day/
END:VEVENT
END:VCALENDAR