BEGIN:VCALENDAR
VERSION:2.0
PRODID:-//eventon.com NONSGML v1.0//EN
CALSCALE:GREGORIAN
METHOD:PUBLISH
BEGIN:VEVENT
UID:69e88da60f459
DTSTAMP:20260422T085814Z
DTSTART:20190521
DTEND:20190522
LOCATION:
SUMMARY:Change in opening hours\,  due to staff meeting. (Click for details)
DESCRIPTION:Due to our monthly Staff Meeting\,  the branches at Hato Rey an
 d Ponce will open at 8:30am and the Guaynabo branch will open at 9:00am.\nh
 ttps://caribefederal.com/events/change-in-opening-hours-due-to-staff-meetin
 g-click-for-details-4/
URL:https://caribefederal.com/events/change-in-opening-hours-due-to-staff-meeting-click-for-details-4/
END:VEVENT
END:VCALENDAR