BEGIN:VCALENDAR
VERSION:2.0
PRODID:-//eventon.com NONSGML v1.0//EN
CALSCALE:GREGORIAN
METHOD:PUBLISH
BEGIN:VEVENT
UID:69e7398c9a7b9
DTSTAMP:20260421T084708Z
DTSTART:20260825
DTEND:20260826
LOCATION:
SUMMARY:Reunión de Staff
DESCRIPTION:\nhttps://caribefederal.com/events/reunion-de-staff-33/
URL:https://caribefederal.com/events/reunion-de-staff-33/
END:VEVENT
END:VCALENDAR