BEGIN:VCALENDAR
VERSION:2.0
PRODID:-//eventon.com NONSGML v1.0//EN
CALSCALE:GREGORIAN
METHOD:PUBLISH
BEGIN:VEVENT
UID:69e74cb85fb1f
DTSTAMP:20260421T100856Z
DTSTART:20250217
DTEND:20250218
LOCATION:
SUMMARY:Natalicio de George Washington
DESCRIPTION:\nhttps://caribefederal.com/events/natalicio-de-george-washingt
 on-2/
URL:https://caribefederal.com/events/natalicio-de-george-washington-2/
END:VEVENT
END:VCALENDAR