BEGIN:VCALENDAR
VERSION:2.0
PRODID:-//eventon.com NONSGML v1.0//EN
CALSCALE:GREGORIAN
METHOD:PUBLISH
BEGIN:VEVENT
UID:69e74a74b21b8
DTSTAMP:20260421T095916Z
DTSTART:20260127T110000Z
DTEND:20260127T123000Z
LOCATION:
SUMMARY:Reunión de Staff
DESCRIPTION:LAS SUCURSALES ABREN A LAS 8:30AM.\nhttps://caribefederal.com/e
 vents/reunion-de-staff-25/
URL:https://caribefederal.com/events/reunion-de-staff-25/
END:VEVENT
END:VCALENDAR