BEGIN:VCALENDAR
VERSION:2.0
PRODID:-//eventon.com NONSGML v1.0//EN
CALSCALE:GREGORIAN
METHOD:PUBLISH
BEGIN:VEVENT
UID:69e7364d07825
DTSTAMP:20260421T083317Z
DTSTART:20240827
DTEND:20240828
LOCATION:
SUMMARY:Reunión de Staff
DESCRIPTION:\nhttps://caribefederal.com/events/reunion-de-staff-21/
URL:https://caribefederal.com/events/reunion-de-staff-21/
END:VEVENT
END:VCALENDAR