BEGIN:VCALENDAR
VERSION:2.0
PRODID:-//eventon.com NONSGML v1.0//EN
CALSCALE:GREGORIAN
METHOD:PUBLISH
BEGIN:VEVENT
UID:69e4f69986abe
DTSTAMP:20260419T153657Z
DTSTART:20240130
DTEND:20240131
LOCATION:
SUMMARY:Staff Meeting
DESCRIPTION:\nhttps://caribefederal.com/events/staff-meeting-24/
URL:https://caribefederal.com/events/staff-meeting-24/
END:VEVENT
END:VCALENDAR