BEGIN:VCALENDAR
VERSION:2.0
PRODID:-//eventon.com NONSGML v1.0//EN
CALSCALE:GREGORIAN
METHOD:PUBLISH
BEGIN:VEVENT
UID:69e74ca114d65
DTSTAMP:20260421T100833Z
DTSTART:20220530
DTEND:20220531
LOCATION:Puerto Rico
SUMMARY:Día de la Recordación
DESCRIPTION:Nuestras sucursales estarán cerradas.\nhttps://caribefederal.c
 om/en/events/memorial-day-2-2/
URL:https://caribefederal.com/en/events/memorial-day-2-2/
END:VEVENT
END:VCALENDAR