BEGIN:VCALENDAR
VERSION:2.0
PRODID:-//eventon.com NONSGML v1.0//EN
CALSCALE:GREGORIAN
METHOD:PUBLISH
BEGIN:VEVENT
UID:69e5e62897dd0
DTSTAMP:20260420T083904Z
DTSTART:20211123
DTEND:20211124
LOCATION:Puerto Rico
SUMMARY:Staff Meeting
DESCRIPTION:Staff Meeting\nhttps://caribefederal.com/en/events/staff-meetin
 g-22/
URL:https://caribefederal.com/en/events/staff-meeting-22/
END:VEVENT
END:VCALENDAR