BEGIN:VCALENDAR
VERSION:2.0
PRODID:-//eventon.com NONSGML v1.0//EN
CALSCALE:GREGORIAN
METHOD:PUBLISH
BEGIN:VEVENT
UID:69e88ce20a324
DTSTAMP:20260422T085458Z
DTSTART:20210330
DTEND:20210331
LOCATION:Puerto Rico
SUMMARY:Reunión de Staff
DESCRIPTION:Reunión de Staff\nhttps://caribefederal.com/en/events/reunion-
 de-staff-5/
URL:https://caribefederal.com/en/events/reunion-de-staff-5/
END:VEVENT
END:VCALENDAR