BEGIN:VCALENDAR
VERSION:2.0
PRODID:-//eventon.com NONSGML v1.0//EN
CALSCALE:GREGORIAN
METHOD:PUBLISH
BEGIN:VEVENT
UID:69e74b47ceb85
DTSTAMP:20260421T100247Z
DTSTART:20210223
DTEND:20210224
LOCATION:Puerto Rico
SUMMARY:Staff Meeting
DESCRIPTION:Staff Meeting\nhttps://caribefederal.com/en/events/staff-meetin
 g-13/
URL:https://caribefederal.com/en/events/staff-meeting-13/
END:VEVENT
END:VCALENDAR