BEGIN:VCALENDAR
VERSION:2.0
PRODID:-//eventon.com NONSGML v1.0//EN
CALSCALE:GREGORIAN
METHOD:PUBLISH
BEGIN:VEVENT
UID:69e5f62e5225d
DTSTAMP:20260420T094726Z
DTSTART:20211011
DTEND:20211012
LOCATION:Puerto Rico
SUMMARY:Día de la Raza
DESCRIPTION:Día de la Raza\nhttps://caribefederal.com/en/events/columbus-d
 ay-2/
URL:https://caribefederal.com/en/events/columbus-day-2/
END:VEVENT
END:VCALENDAR