BEGIN:VCALENDAR
VERSION:2.0
PRODID:-//eventon.com NONSGML v1.0//EN
CALSCALE:GREGORIAN
METHOD:PUBLISH
BEGIN:VEVENT
UID:69e74cf167c47
DTSTAMP:20260421T100953Z
DTSTART:20190730
DTEND:20190731
LOCATION:
SUMMARY:Cambio de horario\,  debido a reunión de Staff - Presione para más detalles.
DESCRIPTION:Debido a nuestra reunión de staff mensual\,  las sucursales de
  Hato Rey y Ponce abrirán a las 8:30am y la sucursal de Guaynabo abrirá a
  las 9:00am.\nhttps://caribefederal.com/en/events/cambio-de-horario-debido-
 a-reunion-de-staff-presione-para-mas-detalles-5/
URL:https://caribefederal.com/en/events/cambio-de-horario-debido-a-reunion-de-staff-presione-para-mas-detalles-5/
END:VEVENT
END:VCALENDAR