BEGIN:VCALENDAR
VERSION:2.0
PRODID:-//eventon.com NONSGML v1.0//EN
CALSCALE:GREGORIAN
METHOD:PUBLISH
BEGIN:VEVENT
UID:69e5fb3ab5f56
DTSTAMP:20260420T100858Z
DTSTART:20260216
DTEND:20260217
LOCATION:
SUMMARY:George Washington's Birthday
DESCRIPTION:\nhttps://caribefederal.com/en/events/george-washingtons-birthd
 ay/
URL:https://caribefederal.com/en/events/george-washingtons-birthday/
END:VEVENT
END:VCALENDAR