BEGIN:VCALENDAR
VERSION:2.0
PRODID:-//eventon.com NONSGML v1.0//EN
CALSCALE:GREGORIAN
METHOD:PUBLISH
BEGIN:VEVENT
UID:69e5e5150fda3
DTSTAMP:20260420T083429Z
DTSTART:20210106
DTEND:20210107
LOCATION:Puerto Rico
SUMMARY:Día de los Tres Reyes Magos
DESCRIPTION:Día de los Tres Reyes Magos\nhttps://caribefederal.com/en/even
 ts/dia-de-los-tres-reyes-magos/
URL:https://caribefederal.com/en/events/dia-de-los-tres-reyes-magos/
END:VEVENT
END:VCALENDAR