BEGIN:VCALENDAR
VERSION:2.0
PRODID:-//eventon.com NONSGML v1.0//EN
CALSCALE:GREGORIAN
METHOD:PUBLISH
BEGIN:VEVENT
UID:69e736e63879c
DTSTAMP:20260421T083550Z
DTSTART:20241105
DTEND:20241106
LOCATION:
SUMMARY:Día de Elecciones
DESCRIPTION:\nhttps://caribefederal.com/en/events/dia-de-elecciones/
URL:https://caribefederal.com/en/events/dia-de-elecciones/
END:VEVENT
END:VCALENDAR