BEGIN:VCALENDAR
VERSION:2.0
PRODID:-//eventon.com NONSGML v1.0//EN
CALSCALE:GREGORIAN
METHOD:PUBLISH
BEGIN:VEVENT
UID:69e7371a90be5
DTSTAMP:20260421T083642Z
DTSTART:20240227
DTEND:20240228
LOCATION:
SUMMARY:Staff Meeting
DESCRIPTION:\nhttps://caribefederal.com/en/events/staff-meeting-25/
URL:https://caribefederal.com/en/events/staff-meeting-25/
END:VEVENT
END:VCALENDAR